BEGIN:VCALENDAR
VERSION:2.0
PRODID:icalendar-ruby
CALSCALE:GREGORIAN
METHOD:PUBLISH
BEGIN:VEVENT
DTSTAMP:20260423T213656Z
UID:5-1503069@turinmethodist.tithelysetup2.com
DTSTART:20260607T150000Z
DTEND:20260607T160000Z
CLASS:PUBLIC
CREATED:20260107T115658
DESCRIPTION:Sunday Worship
LAST-MODIFIED:20260107T115658
LOCATION:
SUMMARY:Sunday Worship
URL;VALUE=URI:https://turinmethodist.org/events/sunday-worship/2026-06-07
END:VEVENT
END:VCALENDAR
