BEGIN:VCALENDAR
VERSION:2.0
PRODID:icalendar-ruby
CALSCALE:GREGORIAN
METHOD:PUBLISH
BEGIN:VEVENT
DTSTAMP:20260423T120758Z
UID:18-1503549@turinmethodist.tithelysetup2.com
DTSTART:20260428T223000Z
DTEND:20260429T000000Z
CLASS:PUBLIC
CREATED:20260421T114812
DESCRIPTION:
LAST-MODIFIED:20260421T114812
LOCATION:Carrabba's in PTC
SUMMARY:Ladies' Dinner Out
URL;VALUE=URI:https://turinmethodist.org/events/ladies-dinner-out/2026-04-2
 8
ATTACH;FILENAME=ladies-dinner.jpg;FMTTYPE=image/jpeg:https://dq5pwpg1q8ru0.
 cloudfront.net/2026/03/12/17/22/19/d8dda3cc-5717-475f-ac68-03e53ec0217f/la
 dies-dinner.jpg
END:VEVENT
END:VCALENDAR
